BEGIN:VCALENDAR
VERSION:2.0
PRODID:icalendar-ruby
CALSCALE:GREGORIAN
METHOD:PUBLISH
BEGIN:VEVENT
DTSTAMP:20260421T125431Z
UID:148-791067@salinebaptist.org
DTSTART:20260508T230000Z
DTEND:20260509T020000Z
CLASS:PUBLIC
CREATED:20260420T192302
DESCRIPTION:Reserved by ARG 4/20/26
LAST-MODIFIED:20260420T192302
LOCATION:Storehouse
SUMMARY:Church campus reserved for private event
URL;VALUE=URI:https://salinebaptist.org/events/church-campus-reserved-for-p
 rivate-event--148/2026-05-08
ATTACH;FILENAME=GS39.jpg;FMTTYPE=image/jpeg:https://dq5pwpg1q8ru0.cloudfron
 t.net/2026/04/21/00/23/02/6b0a370f-034d-48ef-8ed9-190b93dfc518/GS39.jpg
END:VEVENT
END:VCALENDAR
