BEGIN:VCALENDAR
VERSION:2.0
PRODID:icalendar-ruby
CALSCALE:GREGORIAN
METHOD:PUBLISH
BEGIN:VEVENT
DTSTAMP:20260420T050555Z
UID:146-786542@salinebaptist.org
DTSTART;VALUE=DATE:20260801
DTEND;VALUE=DATE:20260801
CLASS:PUBLIC
CREATED:20260419T112040
DESCRIPTION:Reserved by LMB 4/19/26
LAST-MODIFIED:20260419T112040
LOCATION:Church basement 
SUMMARY:Church campus reserved for private event
URL;VALUE=URI:https://salinebaptist.org/events/church-campus-reserved-for-p
 rivate-event--146/2026-08-01
END:VEVENT
END:VCALENDAR
