BEGIN:VCALENDAR
VERSION:2.0
PRODID:icalendar-ruby
CALSCALE:GREGORIAN
METHOD:PUBLISH
BEGIN:VEVENT
DTSTAMP:20260420T045955Z
UID:145-755013@salinebaptist.org
DTSTART:20261023T120000Z
DTEND:20261025T040000Z
CLASS:PUBLIC
CREATED:20260407T183511
DESCRIPTION:Reserved LB 4/7/26
LAST-MODIFIED:20260407T183511
LOCATION:
SUMMARY:Church campus reserved for private event
URL;VALUE=URI:https://salinebaptist.org/events/church-campus-reserved-for-p
 rivate-event--145/2026-10-23
END:VEVENT
END:VCALENDAR
